BEGIN:VCALENDAR
VERSION:2.0
PRODID:-//MUNICIPALIDAD DE BALCARCE - ECPv6.15.14//NONSGML v1.0//EN
CALSCALE:GREGORIAN
METHOD:PUBLISH
X-ORIGINAL-URL:https://balcarce.gob.ar
X-WR-CALDESC:Eventos para MUNICIPALIDAD DE BALCARCE
REFRESH-INTERVAL;VALUE=DURATION:PT1H
X-Robots-Tag:noindex
X-PUBLISHED-TTL:PT1H
BEGIN:VTIMEZONE
TZID:America/Argentina/Buenos_Aires
BEGIN:STANDARD
TZOFFSETFROM:-0300
TZOFFSETTO:-0300
TZNAME:-03
DTSTART:20230101T000000
END:STANDARD
END:VTIMEZONE
BEGIN:VEVENT
DTSTART;TZID=America/Argentina/Buenos_Aires:20241031T190000
DTEND;TZID=America/Argentina/Buenos_Aires:20241031T210000
DTSTAMP:20260421T213057
CREATED:20241030T170926Z
LAST-MODIFIED:20241030T170926Z
UID:7243-1730401200-1730408400@balcarce.gob.ar
SUMMARY:VALORIZACIÓN DE PRODUCTOS LOCALES
DESCRIPTION:🧀✨ ¡Acompáñanos en el Ciclo de Charlas y Degustación sobre la Valorización de Productos Locales! ✨🧀 \n📅 Fecha: 31 de octubre\n🕖 Hora: 19:00\n📍 Lugar: Centro Cultural Salamone\, Av. Eva Perón 3949\, Balcarce \nPrograma: \n🔹 19:00 – “Espacios de Comercialización en Balcarce”\nDra. Mariana Bruno (INTA-CONICET) \n🔹 19:30 – “Valorización de Alimentos Locales: El caso de los quesos artesanales en Balcarce”\nDra. Laura Viteri (INTA-CONICET) \n🔹 20:00 – Debate & Degustación 🍽️ \n👥 Invitan:\nCámara de Comercio e Industria de Balcarce\, Agencia de Extensión Territorial Balcarce (INTA EEA Balcarce) y el Instituto de Innovación para la Producción Agropecuaria y el Desarrollo Sostenible (IPADS\, CONICET-INTA). \n¡Vení a compartir y disfrutar de lo mejor de nuestros productos locales! Esta es una gran oportunidad para conectar con la comunidad y fomentar el desarrollo sostenible.
URL:https://balcarce.gob.ar/event/valorizacion-de-productos-locales/
LOCATION:Centro Cultural Salamone\, Av. Eva Perón 3949\, B7620 Balcarce\, Provincia de Buenos Aires\, Balcarce\, Buenos Aires\, 7620\, Argentina
CATEGORIES:charla,turismo
ATTACH;FMTTYPE=image/jpeg:https://balcarce.gob.ar/wp-content/uploads/2024/10/WhatsApp-Image-2024-10-29-at-10.09.11.jpeg
END:VEVENT
END:VCALENDAR