BEGIN:VCALENDAR
VERSION:2.0
PRODID:-//MUNICIPALIDAD DE BALCARCE - ECPv6.15.14//NONSGML v1.0//EN
CALSCALE:GREGORIAN
METHOD:PUBLISH
X-WR-CALNAME:MUNICIPALIDAD DE BALCARCE
X-ORIGINAL-URL:https://balcarce.gob.ar
X-WR-CALDESC:Eventos para MUNICIPALIDAD DE BALCARCE
REFRESH-INTERVAL;VALUE=DURATION:PT1H
X-Robots-Tag:noindex
X-PUBLISHED-TTL:PT1H
BEGIN:VTIMEZONE
TZID:America/Argentina/Buenos_Aires
BEGIN:STANDARD
TZOFFSETFROM:-0300
TZOFFSETTO:-0300
TZNAME:-03
DTSTART:20240101T000000
END:STANDARD
END:VTIMEZONE
BEGIN:VEVENT
DTSTART;TZID=America/Argentina/Buenos_Aires:20250125T190000
DTEND;TZID=America/Argentina/Buenos_Aires:20250125T203000
DTSTAMP:20260421T182741
CREATED:20250123T122325Z
LAST-MODIFIED:20250123T122325Z
UID:9134-1737831600-1737837000@balcarce.gob.ar
SUMMARY:Reconocimiento\, Prevencion de accidentes y 1° auxilios con animales venenosos.
DESCRIPTION:
URL:https://balcarce.gob.ar/event/reconocimiento-prevencion-de-accidentes-y-1-auxilios-con-animales-venenosos/
LOCATION:Geoparque Pun Antu\, calle 47 y 48\, balcarce\, Buenos Aires\, 7620\, Argentina
CATEGORIES:charla,turismo
ATTACH;FMTTYPE=image/jpeg:https://balcarce.gob.ar/wp-content/uploads/2025/01/WhatsApp-Image-2025-01-22-at-13.17.36-scaled.jpeg
END:VEVENT
END:VCALENDAR