BEGIN:VCALENDAR
VERSION:2.0
PRODID:-//MUNICIPALIDAD DE BALCARCE - ECPv6.15.14//NONSGML v1.0//EN
CALSCALE:GREGORIAN
METHOD:PUBLISH
X-ORIGINAL-URL:https://balcarce.gob.ar
X-WR-CALDESC:Eventos para MUNICIPALIDAD DE BALCARCE
REFRESH-INTERVAL;VALUE=DURATION:PT1H
X-Robots-Tag:noindex
X-PUBLISHED-TTL:PT1H
BEGIN:VTIMEZONE
TZID:America/Argentina/Buenos_Aires
BEGIN:STANDARD
TZOFFSETFROM:-0300
TZOFFSETTO:-0300
TZNAME:-03
DTSTART:20240101T000000
END:STANDARD
END:VTIMEZONE
BEGIN:VEVENT
DTSTART;TZID=America/Argentina/Buenos_Aires:20250110T200000
DTEND;TZID=America/Argentina/Buenos_Aires:20250112T233000
DTSTAMP:20260423T161653
CREATED:20241206T135300Z
LAST-MODIFIED:20250110T142031Z
UID:8336-1736539200-1736724600@balcarce.gob.ar
SUMMARY:ENERO ROCK FESTIVAL
DESCRIPTION:
URL:https://balcarce.gob.ar/event/enero-rock-festival/
LOCATION:Cerro “El Triunfo”\, Av. Suipacha y Av. Cereijo\, Balcarce\, Provincia de Buenos Aires\, 7620\, Argentina
CATEGORIES:activiades,aire libre,anfiteatro,comida,festival,musica,turismo
ATTACH;FMTTYPE=image/jpeg:https://balcarce.gob.ar/wp-content/uploads/2024/12/WhatsApp-Image-2024-12-06-at-10.30.32.jpeg
END:VEVENT
BEGIN:VEVENT
DTSTART;TZID=America/Argentina/Buenos_Aires:20250124T180000
DTEND;TZID=America/Argentina/Buenos_Aires:20250126T233000
DTSTAMP:20260423T161653
CREATED:20241211T134804Z
LAST-MODIFIED:20241211T134804Z
UID:8421-1737741600-1737934200@balcarce.gob.ar
SUMMARY:FIESTA DE LA PIZZA Y EMPANADA
DESCRIPTION:
URL:https://balcarce.gob.ar/event/fiesta-de-la-pizza-y-empanada/
LOCATION:Plaza Libertad\, calle 17 y 18\, balcarce\, buenos aires\, 7620\, Argentina
CATEGORIES:activiades,aire libre,comida,fiesta,turismo
ATTACH;FMTTYPE=image/jpeg:https://balcarce.gob.ar/wp-content/uploads/2024/12/WhatsApp-Image-2024-12-11-at-10.45.15.jpeg
END:VEVENT
BEGIN:VEVENT
DTSTART;TZID=America/Argentina/Buenos_Aires:20250125T170000
DTEND;TZID=America/Argentina/Buenos_Aires:20250125T220000
DTSTAMP:20260423T161653
CREATED:20250113T191237Z
LAST-MODIFIED:20250113T191237Z
UID:8976-1737824400-1737842400@balcarce.gob.ar
SUMMARY:Jornada especial en “El Malón”
DESCRIPTION:✨✨Jornada especial en “El Malon’ el 25 de enero. \n🎶🎵 “Seminario de Zamba” para todo público 17 hs \n🥟🍷”Empanadas salteñas” para recargar \n🎼🎸 “Son Violeta” música en vivo para finalizar\, 20:30 hs \n📌 En “El Malón” – Ruta 226 km 39.5\, Balcarce. \n👉🏼👉🏼 Cel 2236826136
URL:https://balcarce.gob.ar/event/jornada-especial-en-el-malon/
LOCATION:laguna brava\, ruta 226 km 39\,5\, balcarce\, buenos aires\, 7620\, Argentina
CATEGORIES:activiades,comida,cultura,folklore,musica,turismo
ATTACH;FMTTYPE=image/jpeg:https://balcarce.gob.ar/wp-content/uploads/2025/01/WhatsApp-Image-2025-01-13-at-15.51.21-1.jpeg
END:VEVENT
END:VCALENDAR