BEGIN:VCALENDAR
VERSION:2.0
PRODID:-//MUNICIPALIDAD DE BALCARCE - ECPv6.15.14//NONSGML v1.0//EN
CALSCALE:GREGORIAN
METHOD:PUBLISH
X-WR-CALNAME:MUNICIPALIDAD DE BALCARCE
X-ORIGINAL-URL:https://balcarce.gob.ar
X-WR-CALDESC:Eventos para MUNICIPALIDAD DE BALCARCE
REFRESH-INTERVAL;VALUE=DURATION:PT1H
X-Robots-Tag:noindex
X-PUBLISHED-TTL:PT1H
BEGIN:VTIMEZONE
TZID:America/Argentina/Buenos_Aires
BEGIN:STANDARD
TZOFFSETFROM:-0300
TZOFFSETTO:-0300
TZNAME:-03
DTSTART:20230101T000000
END:STANDARD
END:VTIMEZONE
BEGIN:VEVENT
DTSTART;TZID=America/Argentina/Buenos_Aires:20241102T203000
DTEND;TZID=America/Argentina/Buenos_Aires:20241102T233000
DTSTAMP:20260423T221852
CREATED:20241031T121406Z
LAST-MODIFIED:20241031T121406Z
UID:7266-1730579400-1730590200@balcarce.gob.ar
SUMMARY:PEÑA FAMILIAR
DESCRIPTION:
URL:https://balcarce.gob.ar/event/pena-familiar/
LOCATION:Gimnasio de la Escuela Nº 13\, calle 21 e/ 28 y 30\, balcarce\, buenos aires\, 7620\, Argentina
CATEGORIES:activiades,evento,musica,turismo
ATTACH;FMTTYPE=image/jpeg:https://balcarce.gob.ar/wp-content/uploads/2024/10/WhatsApp-Image-2024-10-31-at-08.35.55.jpeg
END:VEVENT
BEGIN:VEVENT
DTSTART;TZID=America/Argentina/Buenos_Aires:20241103T180000
DTEND;TZID=America/Argentina/Buenos_Aires:20241103T233000
DTSTAMP:20260423T221852
CREATED:20241101T114707Z
LAST-MODIFIED:20241101T114707Z
UID:7417-1730656800-1730676600@balcarce.gob.ar
SUMMARY:HOMENAJE AL CHIQUI SMIRAGLIA
DESCRIPTION:
URL:https://balcarce.gob.ar/event/homenaje-al-chiqui-smiraglia/
LOCATION:Cerro “El Triunfo”\, Av. Suipacha y Av. Cereijo\, Balcarce\, Provincia de Buenos Aires\, 7620\, Argentina
CATEGORIES:activiades,musica,pulpería,turismo
ATTACH;FMTTYPE=image/jpeg:https://balcarce.gob.ar/wp-content/uploads/2024/11/WhatsApp-Image-2024-11-01-at-08.43.06.jpeg
END:VEVENT
BEGIN:VEVENT
DTSTART;TZID=America/Argentina/Buenos_Aires:20241110T200000
DTEND;TZID=America/Argentina/Buenos_Aires:20241110T233000
DTSTAMP:20260423T221852
CREATED:20241106T222017Z
LAST-MODIFIED:20241106T222017Z
UID:7600-1731268800-1731281400@balcarce.gob.ar
SUMMARY:PEÑA ANIVERSARIO 25 AÑOS TALLER DE DANZAS NATIVAS
DESCRIPTION:
URL:https://balcarce.gob.ar/event/pena-aniversario-25-anos-taller-de-danzas-nativas/
LOCATION:Cerro “El Triunfo”\, Av. Suipacha y Av. Cereijo\, Balcarce\, Provincia de Buenos Aires\, 7620\, Argentina
CATEGORIES:activiades,musica,pulpería,tradición,turismo
ATTACH;FMTTYPE=image/jpeg:https://balcarce.gob.ar/wp-content/uploads/2024/11/WhatsApp-Image-2024-11-01-at-11.48.26.jpeg
END:VEVENT
BEGIN:VEVENT
DTSTART;TZID=America/Argentina/Buenos_Aires:20241115T180000
DTEND;TZID=America/Argentina/Buenos_Aires:20241117T233000
DTSTAMP:20260423T221852
CREATED:20241106T222527Z
LAST-MODIFIED:20241106T222527Z
UID:7603-1731693600-1731886200@balcarce.gob.ar
SUMMARY:5ta FIESTA DE LA CERVEZA
DESCRIPTION:
URL:https://balcarce.gob.ar/event/5ta-fiesta-de-la-cerveza/
LOCATION:Plaza Libertad\, calle 17 y 18\, balcarce\, buenos aires\, 7620\, Argentina
CATEGORIES:activiades,aire libre,comercial,comida,evento,fiesta,musica,show,turismo
ATTACH;FMTTYPE=image/jpeg:https://balcarce.gob.ar/wp-content/uploads/2024/11/WhatsApp-Image-2024-11-06-at-10.43.20.jpeg
END:VEVENT
BEGIN:VEVENT
DTSTART;TZID=America/Argentina/Buenos_Aires:20241123T080000
DTEND;TZID=America/Argentina/Buenos_Aires:20241123T170000
DTSTAMP:20260423T221852
CREATED:20240726T132814Z
LAST-MODIFIED:20241119T160741Z
UID:4959-1732348800-1732381200@balcarce.gob.ar
SUMMARY:Segunda Peña Pulpera
DESCRIPTION:Reservas al 2266660858
URL:https://balcarce.gob.ar/event/segunda-pena-pulpera/
LOCATION:buenos aires
CATEGORIES:musica,pulpería,show,turismo
ATTACH;FMTTYPE=image/jpeg:https://balcarce.gob.ar/wp-content/uploads/2024/07/WhatsApp-Image-2024-11-19-at-12.23.12.jpeg
END:VEVENT
BEGIN:VEVENT
DTSTART;TZID=America/Argentina/Buenos_Aires:20241124T180000
DTEND;TZID=America/Argentina/Buenos_Aires:20241124T233000
DTSTAMP:20260423T221852
CREATED:20241114T180045Z
LAST-MODIFIED:20241114T180045Z
UID:7773-1732471200-1732491000@balcarce.gob.ar
SUMMARY:GRAN PEÑA FOLKLÓRICA
DESCRIPTION:
URL:https://balcarce.gob.ar/event/gran-pena-folklorica/
LOCATION:Centro Tradicionalista General balcarce\, Av. Centenario 1020\, Balcarce\, provincia de Buenos Aires\, Balcarce\, 7620\, Argentina
CATEGORIES:activiades,aire libre,evento,folklore,musica,turismo
ATTACH;FMTTYPE=image/jpeg:https://balcarce.gob.ar/wp-content/uploads/2024/11/WhatsApp-Image-2024-11-14-at-14.40.14.jpeg
END:VEVENT
BEGIN:VEVENT
DTSTART;TZID=America/Argentina/Buenos_Aires:20241130T170000
DTEND;TZID=America/Argentina/Buenos_Aires:20241130T233000
DTSTAMP:20260423T221852
CREATED:20241121T112825Z
LAST-MODIFIED:20241121T112825Z
UID:7872-1732986000-1733009400@balcarce.gob.ar
SUMMARY:MARAVILLOSA MÚSICA ¡LA FINAL! EN BALCARCE
DESCRIPTION:CONCURSAN \nEstudiantil \nSpunk (San Nicolás) – @spunk_oficial \nLuces de papel (Quilmes) \nLibre \nPili león y Banda (Carmen de Areco) – @pili.leon \nAmplificadx (Bahía blanca) \n  \n¡CIERRA ESTELARES! \nAnfiteatro Saverio Bonazza (Cerro El Triunfo\, Balcarce) \nENTRADA LIBRE Y GRATUITA
URL:https://balcarce.gob.ar/event/maravillosa-musica-la-final-en-balcarce/
LOCATION:Cerro “El Triunfo”\, Av. Suipacha y Av. Cereijo\, Balcarce\, Provincia de Buenos Aires\, 7620\, Argentina
CATEGORIES:activiades,aire libre,anfiteatro,musica
ATTACH;FMTTYPE=image/jpeg:https://balcarce.gob.ar/wp-content/uploads/2024/11/WhatsApp-Image-2024-11-21-at-08.22.56.jpeg
END:VEVENT
BEGIN:VEVENT
DTSTART;TZID=America/Argentina/Buenos_Aires:20241130T210000
DTEND;TZID=America/Argentina/Buenos_Aires:20241130T233000
DTSTAMP:20260423T221852
CREATED:20241123T160054Z
LAST-MODIFIED:20241123T160054Z
UID:7949-1733000400-1733009400@balcarce.gob.ar
SUMMARY:CENA Y BAILE FIN DE AÑO TALLER PROTEGIDO BALCARCE
DESCRIPTION:
URL:https://balcarce.gob.ar/event/cena-y-baile-fin-de-ano-taller-protegido-balcarce/
LOCATION:Cerro “El Triunfo”\, Av. Suipacha y Av. Cereijo\, Balcarce\, Provincia de Buenos Aires\, 7620\, Argentina
CATEGORIES:evento,fiesta,musica,pulpería,turismo
ATTACH;FMTTYPE=image/jpeg:https://balcarce.gob.ar/wp-content/uploads/2024/11/WhatsApp-Image-2024-11-23-at-12.55.59.jpeg
END:VEVENT
END:VCALENDAR