BEGIN:VCALENDAR
VERSION:2.0
PRODID:-//MUNICIPALIDAD DE BALCARCE - ECPv6.15.14//NONSGML v1.0//EN
CALSCALE:GREGORIAN
METHOD:PUBLISH
X-WR-CALNAME:MUNICIPALIDAD DE BALCARCE
X-ORIGINAL-URL:https://balcarce.gob.ar
X-WR-CALDESC:Eventos para MUNICIPALIDAD DE BALCARCE
REFRESH-INTERVAL;VALUE=DURATION:PT1H
X-Robots-Tag:noindex
X-PUBLISHED-TTL:PT1H
BEGIN:VTIMEZONE
TZID:America/Argentina/Buenos_Aires
BEGIN:STANDARD
TZOFFSETFROM:-0300
TZOFFSETTO:-0300
TZNAME:-03
DTSTART:20230101T000000
END:STANDARD
END:VTIMEZONE
BEGIN:VEVENT
DTSTART;TZID=America/Argentina/Buenos_Aires:20241206T163000
DTEND;TZID=America/Argentina/Buenos_Aires:20241208T223000
DTSTAMP:20260423T205559
CREATED:20241203T183204Z
LAST-MODIFIED:20241203T183204Z
UID:8219-1733502600-1733697000@balcarce.gob.ar
SUMMARY:Feliz Navidad pero para Todos. 2da Edición
DESCRIPTION:
URL:https://balcarce.gob.ar/event/feliz-navidad-pero-para-todos-2da-edicion/
LOCATION:Plaza Libertad\, calle 17 y 18\, balcarce\, buenos aires\, 7620\, Argentina
CATEGORIES:activiades,aire libre,feria,musica,recreación,turismo
ATTACH;FMTTYPE=image/jpeg:https://balcarce.gob.ar/wp-content/uploads/2024/12/WhatsApp-Image-2024-12-03-at-12.56.52.jpeg
END:VEVENT
BEGIN:VEVENT
DTSTART;TZID=America/Argentina/Buenos_Aires:20241206T203000
DTEND;TZID=America/Argentina/Buenos_Aires:20241206T233000
DTSTAMP:20260423T205559
CREATED:20241206T185212Z
LAST-MODIFIED:20241206T185212Z
UID:8385-1733517000-1733527800@balcarce.gob.ar
SUMMARY:Primera Peña y Baile de “Aires del Alma”
DESCRIPTION:
URL:https://balcarce.gob.ar/event/primera-pena-y-baile-de-aires-del-alma/
LOCATION:Cerro “El Triunfo”\, Av. Suipacha y Av. Cereijo\, Balcarce\, Provincia de Buenos Aires\, 7620\, Argentina
CATEGORIES:activiades,folklore,musica,pulpería,show,tradición
ATTACH;FMTTYPE=image/jpeg:https://balcarce.gob.ar/wp-content/uploads/2024/12/WhatsApp-Image-2024-12-06-at-15.31.06-1-1.jpeg
END:VEVENT
BEGIN:VEVENT
DTSTART;TZID=America/Argentina/Buenos_Aires:20241215T120000
DTEND;TZID=America/Argentina/Buenos_Aires:20241215T233000
DTSTAMP:20260423T205559
CREATED:20241119T195833Z
LAST-MODIFIED:20241119T200904Z
UID:7832-1734264000-1734305400@balcarce.gob.ar
SUMMARY:110 AÑOS DE NAPALEOFU
DESCRIPTION:Lugar de encuentro en Plaza San Martin. Fogones a partir de las 12h. \nShow de CHICILO VIALE y musica de LOS TAPITAS también artistas locales y de la zona.
URL:https://balcarce.gob.ar/event/110-anos-de-napaleofu/
LOCATION:NAPALEOFU\, Napaleofu\, balcarce\, balcarce\, 7620\, Argentina
CATEGORIES:activiades,aniversario,fiesta,musica,pueblo,turismo
ATTACH;FMTTYPE=image/jpeg:https://balcarce.gob.ar/wp-content/uploads/2024/11/WhatsApp-Image-2024-11-19-at-11.37.15.jpeg
END:VEVENT
BEGIN:VEVENT
DTSTART;TZID=America/Argentina/Buenos_Aires:20241215T193000
DTEND;TZID=America/Argentina/Buenos_Aires:20241215T233000
DTSTAMP:20260423T205559
CREATED:20241211T184048Z
LAST-MODIFIED:20241211T185046Z
UID:8432-1734291000-1734305400@balcarce.gob.ar
SUMMARY:ÚLTIMO BAILE CAMPERO DEL 2024
DESCRIPTION:
URL:https://balcarce.gob.ar/event/ultimo-baile-campero-del-2024/
LOCATION:Cerro “El Triunfo”\, Av. Suipacha y Av. Cereijo\, Balcarce\, Provincia de Buenos Aires\, 7620\, Argentina
CATEGORIES:activiades,musica,pulpería,turismo
ATTACH;FMTTYPE=image/jpeg:https://balcarce.gob.ar/wp-content/uploads/2024/12/WhatsApp-Image-2024-12-11-at-15.51.30.jpeg
END:VEVENT
BEGIN:VEVENT
DTSTART;TZID=America/Argentina/Buenos_Aires:20241222T180000
DTEND;TZID=America/Argentina/Buenos_Aires:20241222T233000
DTSTAMP:20260423T205559
CREATED:20241217T210931Z
LAST-MODIFIED:20241217T210931Z
UID:8541-1734890400-1734910200@balcarce.gob.ar
SUMMARY:GRAN PEÑA FOLKLÓRICA
DESCRIPTION:Domingo 22 de diciembre en la Pulpería “Carlos Máximo Cabrera”. Entrada libre y gratuita. Habrá un bono contribución para colaborar con ambas instituciones\, con el mismo podrás participar de un gran sorteo!\nContamos con la presencia de @donarganaraz.oficial grandes representantes de la música santiagueña. Además\, grandes artistas locales!
URL:https://balcarce.gob.ar/event/gran-pena-folklorica-2/
LOCATION:Cerro “El Triunfo”\, Av. Suipacha y Av. Cereijo\, Balcarce\, Provincia de Buenos Aires\, 7620\, Argentina
CATEGORIES:activiades,musica,pulpería,show,turismo
ATTACH;FMTTYPE=image/jpeg:https://balcarce.gob.ar/wp-content/uploads/2024/12/WhatsApp-Image-2024-12-16-at-11.18.10.jpeg
END:VEVENT
END:VCALENDAR