BEGIN:VCALENDAR
VERSION:2.0
PRODID:-//MUNICIPALIDAD DE BALCARCE - ECPv6.15.14//NONSGML v1.0//EN
CALSCALE:GREGORIAN
METHOD:PUBLISH
X-WR-CALNAME:MUNICIPALIDAD DE BALCARCE
X-ORIGINAL-URL:https://balcarce.gob.ar
X-WR-CALDESC:Eventos para MUNICIPALIDAD DE BALCARCE
REFRESH-INTERVAL;VALUE=DURATION:PT1H
X-Robots-Tag:noindex
X-PUBLISHED-TTL:PT1H
BEGIN:VTIMEZONE
TZID:America/Argentina/Buenos_Aires
BEGIN:STANDARD
TZOFFSETFROM:-0300
TZOFFSETTO:-0300
TZNAME:-03
DTSTART:20240101T000000
END:STANDARD
END:VTIMEZONE
BEGIN:VEVENT
DTSTART;TZID=America/Argentina/Buenos_Aires:20250301T223000
DTEND;TZID=America/Argentina/Buenos_Aires:20250301T233000
DTSTAMP:20260423T165747
CREATED:20250225T223701Z
LAST-MODIFIED:20250225T223701Z
UID:9647-1740868200-1740871800@balcarce.gob.ar
SUMMARY:GRAN BAILE CAMPERO
DESCRIPTION:
URL:https://balcarce.gob.ar/event/gran-baile-campero-3/
LOCATION:Cerro “El Triunfo”\, Av. Suipacha y Av. Cereijo\, Balcarce\, Provincia de Buenos Aires\, 7620\, Argentina
CATEGORIES:activiades,folklore,musica,pulpería,show,turismo
ATTACH;FMTTYPE=image/jpeg:https://balcarce.gob.ar/wp-content/uploads/2025/02/WhatsApp-Image-2025-02-25-at-18.14.31.jpeg
END:VEVENT
BEGIN:VEVENT
DTSTART;TZID=America/Argentina/Buenos_Aires:20250302T210000
DTEND;TZID=America/Argentina/Buenos_Aires:20250302T233000
DTSTAMP:20260423T165747
CREATED:20250302T220125Z
LAST-MODIFIED:20250302T220258Z
UID:9696-1740949200-1740958200@balcarce.gob.ar
SUMMARY:Los Fronterizos en la Pulpería
DESCRIPTION:Ezequiel Mendez \, Emiliano Pellegrino \, Chakana Balcarce y la llegada de los Fronterizos !\nConduce Nacho Melucci\nParejas invitadas… \nLa venta de anticipadas en … \nVineria Los Toneles en Av González Chávez entre 13 y 11\nPeluquería Piu bella de calle 20 entre 33 y 35 … Tel 2266660860 \nValor de la entrada anticipada 6000 \nDomingo 2 de marzo la Pulpería Carlos Máximo Cabrera- Balcarce te espera …
URL:https://balcarce.gob.ar/event/9696/
LOCATION:Cerro “El Triunfo”\, Av. Suipacha y Av. Cereijo\, Balcarce\, Provincia de Buenos Aires\, 7620\, Argentina
CATEGORIES:activiades,musica,pulpería,show,turismo
ATTACH;FMTTYPE=image/jpeg:https://balcarce.gob.ar/wp-content/uploads/2025/03/WhatsApp-Image-2025-03-02-at-18.42.42.jpeg
END:VEVENT
BEGIN:VEVENT
DTSTART;TZID=America/Argentina/Buenos_Aires:20250308T223000
DTEND;TZID=America/Argentina/Buenos_Aires:20250309T010000
DTSTAMP:20260423T165747
CREATED:20250308T143912Z
LAST-MODIFIED:20250308T143912Z
UID:9795-1741473000-1741482000@balcarce.gob.ar
SUMMARY:LA VUELTA ANABELA
DESCRIPTION:
URL:https://balcarce.gob.ar/event/la-vuelta-anabela/
LOCATION:Club Los Pinos\, 19 y 14\, balcarce\, buenos aires\, 7620\, Argentina
CATEGORIES:activiades,LOS PINOS,musica,show,turismo
ATTACH;FMTTYPE=image/jpeg:https://balcarce.gob.ar/wp-content/uploads/2025/03/WhatsApp-Image-2025-03-08-at-11.31.20.jpeg
END:VEVENT
BEGIN:VEVENT
DTSTART;TZID=America/Argentina/Buenos_Aires:20250314T080000
DTEND;TZID=America/Argentina/Buenos_Aires:20250316T170000
DTSTAMP:20260423T165747
CREATED:20250218T170555Z
LAST-MODIFIED:20250315T150714Z
UID:9528-1741939200-1742144400@balcarce.gob.ar
SUMMARY:LA FIESTA Y 5° CONCURSO FLECHA DE PLATA
DESCRIPTION:
URL:https://balcarce.gob.ar/event/la-fiesta-y-5-concurso-flecha-de-plata/
LOCATION:Laguna La Brava\, km 40 ruta 226\, Balcarce\, Provincia de Buenos Aires\, 7620\, Argentina
CATEGORIES:activiades,aire libre,laguna,musica,pesca,turismo
ATTACH;FMTTYPE=image/jpeg:https://balcarce.gob.ar/wp-content/uploads/2025/02/WhatsApp-Image-2025-02-18-at-13.58.45.jpeg
END:VEVENT
BEGIN:VEVENT
DTSTART;TZID=America/Argentina/Buenos_Aires:20250315T223000
DTEND;TZID=America/Argentina/Buenos_Aires:20250315T233000
DTSTAMP:20260423T165747
CREATED:20250311T144849Z
LAST-MODIFIED:20250311T144849Z
UID:9836-1742077800-1742081400@balcarce.gob.ar
SUMMARY:RAUL PALMA SHOW EN VIVO
DESCRIPTION:
URL:https://balcarce.gob.ar/event/raul-palma-show-en-vivo/
LOCATION:Cerro “El Triunfo”\, Av. Suipacha y Av. Cereijo\, Balcarce\, Provincia de Buenos Aires\, 7620\, Argentina
CATEGORIES:activiades,folklore,musica,pulpería,show,turismo
ATTACH;FMTTYPE=image/jpeg:https://balcarce.gob.ar/wp-content/uploads/2025/03/WhatsApp-Image-2025-03-10-at-10.27.18.jpeg
END:VEVENT
BEGIN:VEVENT
DTSTART;TZID=America/Argentina/Buenos_Aires:20250316T150000
DTEND;TZID=America/Argentina/Buenos_Aires:20250316T190000
DTSTAMP:20260423T165747
CREATED:20250314T162500Z
LAST-MODIFIED:20250314T162500Z
UID:9920-1742137200-1742151600@balcarce.gob.ar
SUMMARY:BALCARCE JUNTO A BAHIA BLANCA
DESCRIPTION:
URL:https://balcarce.gob.ar/event/balcarce-junto-a-bahia-blanca/
LOCATION:Plaza Libertad\, calle 17 y 18\, balcarce\, buenos aires\, 7620\, Argentina
CATEGORIES:activiades,aire libre,folklore,musica,turismo
ATTACH;FMTTYPE=image/jpeg:https://balcarce.gob.ar/wp-content/uploads/2025/03/WhatsApp-Image-2025-03-14-at-13.20.01.jpeg
END:VEVENT
END:VCALENDAR