BEGIN:VCALENDAR
VERSION:2.0
PRODID:-//MUNICIPALIDAD DE BALCARCE - ECPv6.15.14//NONSGML v1.0//EN
CALSCALE:GREGORIAN
METHOD:PUBLISH
X-ORIGINAL-URL:https://balcarce.gob.ar
X-WR-CALDESC:Eventos para MUNICIPALIDAD DE BALCARCE
REFRESH-INTERVAL;VALUE=DURATION:PT1H
X-Robots-Tag:noindex
X-PUBLISHED-TTL:PT1H
BEGIN:VTIMEZONE
TZID:America/Argentina/Buenos_Aires
BEGIN:STANDARD
TZOFFSETFROM:-0300
TZOFFSETTO:-0300
TZNAME:-03
DTSTART:20230101T000000
END:STANDARD
END:VTIMEZONE
BEGIN:VEVENT
DTSTART;TZID=America/Argentina/Buenos_Aires:20240824T170000
DTEND;TZID=America/Argentina/Buenos_Aires:20240824T190000
DTSTAMP:20260424T040939
CREATED:20240731T155420Z
LAST-MODIFIED:20240731T155420Z
UID:5044-1724518800-1724526000@balcarce.gob.ar
SUMMARY:Té musical
DESCRIPTION:La Biblioteca Pablo A. Pizzurno invita a la comunidad en general al evento Té Musical. \n 
URL:https://balcarce.gob.ar/event/te-musical/
LOCATION:Biblioteca Pablo A. Pizzurno\, calle 15 n° 707\, Balcarce\, Buenos Aires\, 7620\, Argentina
CATEGORIES:biblioteca,musica
ATTACH;FMTTYPE=image/jpeg:https://balcarce.gob.ar/wp-content/uploads/2024/07/WhatsApp-Image-2024-07-31-at-12.55.34-PM.jpeg
END:VEVENT
END:VCALENDAR