BEGIN:VCALENDAR
VERSION:2.0
PRODID:-//MUNICIPALIDAD DE BALCARCE - ECPv6.15.14//NONSGML v1.0//EN
CALSCALE:GREGORIAN
METHOD:PUBLISH
X-WR-CALNAME:MUNICIPALIDAD DE BALCARCE
X-ORIGINAL-URL:https://balcarce.gob.ar
X-WR-CALDESC:Eventos para MUNICIPALIDAD DE BALCARCE
REFRESH-INTERVAL;VALUE=DURATION:PT1H
X-Robots-Tag:noindex
X-PUBLISHED-TTL:PT1H
BEGIN:VTIMEZONE
TZID:America/Argentina/Buenos_Aires
BEGIN:STANDARD
TZOFFSETFROM:-0300
TZOFFSETTO:-0300
TZNAME:-03
DTSTART:20230101T000000
END:STANDARD
END:VTIMEZONE
BEGIN:VEVENT
DTSTART;TZID=America/Argentina/Buenos_Aires:20240907T210000
DTEND;TZID=America/Argentina/Buenos_Aires:20240907T230000
DTSTAMP:20260424T023641
CREATED:20240826T165221Z
LAST-MODIFIED:20240826T165221Z
UID:5850-1725742800-1725750000@balcarce.gob.ar
SUMMARY:Caja Negra Balcarce
DESCRIPTION:POR PRIMERA VEZ EN BALCARCE !!! LLEGA EL HOMENAJE A SODA STEREO Y GUSTAVO CERATI QUE TE HARÁ VIAJAR POR TODAS LAS ÉPOCAS DE UNA DE LAS \nBANDAS INSIGNIA DE NUESTRO ROCK NACIONAL.  \nLa banda Argentina formada por Voz líder y guitarras\, Tati Freites\, Teclados\, samplers y voces\, Federico Lapieza\, Primera guitarra\, Edu Grave en Bajo Roberto Bonifacio y Diego Chantiri en la Batería\, lleva ya girando por el país desde el año 2018\, presentándose en todo tipo de eventos culturales masivos\, compartiendo escenario con artistas de nivel Nacional e internacional\, incluso brindando un mega concierto con la Orquesta Sinfónica de Olavarría ante 1.000 espectadores\, también compartiendo escenario con Michelle Bliman y Fernando Samalea (baterista de Cerati) en Olavarría. Caja Negra\, replica la formación de la banda de Gustavo Cerati en sus últimas giras\, si bien no busca imitar la puesta en escena\, sí hace hincapié en reproducir fielmente el audio de las canciones. \nINVITADOS DE LUJO… DESDE OLAVARRIA COVERING U2. UNOS DE \nLOS HOMENAJES A U2 MÁS AUTÉNTICO DE ARGENTINA.
URL:https://balcarce.gob.ar/event/caja-negra-balcarce/
LOCATION:Teatro Municipal “Luis A. Conti”\, Calle 16 690\, Balcarce\, Provincia de Buenos Aires\, 7620\, Argentina
CATEGORIES:musica
ATTACH;FMTTYPE=image/jpeg:https://balcarce.gob.ar/wp-content/uploads/2024/08/cerati.jpg
END:VEVENT
END:VCALENDAR