BEGIN:VCALENDAR
VERSION:2.0
PRODID:-//MUNICIPALIDAD DE BALCARCE - ECPv6.15.14//NONSGML v1.0//EN
CALSCALE:GREGORIAN
METHOD:PUBLISH
X-ORIGINAL-URL:https://balcarce.gob.ar
X-WR-CALDESC:Eventos para MUNICIPALIDAD DE BALCARCE
REFRESH-INTERVAL;VALUE=DURATION:PT1H
X-Robots-Tag:noindex
X-PUBLISHED-TTL:PT1H
BEGIN:VTIMEZONE
TZID:America/Argentina/Buenos_Aires
BEGIN:STANDARD
TZOFFSETFROM:-0300
TZOFFSETTO:-0300
TZNAME:-03
DTSTART:20240101T000000
END:STANDARD
END:VTIMEZONE
BEGIN:VEVENT
DTSTART;TZID=America/Argentina/Buenos_Aires:20250308T223000
DTEND;TZID=America/Argentina/Buenos_Aires:20250309T010000
DTSTAMP:20260423T182911
CREATED:20250308T143912Z
LAST-MODIFIED:20250308T143912Z
UID:9795-1741473000-1741482000@balcarce.gob.ar
SUMMARY:LA VUELTA ANABELA
DESCRIPTION:
URL:https://balcarce.gob.ar/event/la-vuelta-anabela/
LOCATION:Club Los Pinos\, 19 y 14\, balcarce\, buenos aires\, 7620\, Argentina
CATEGORIES:activiades,LOS PINOS,musica,show,turismo
ATTACH;FMTTYPE=image/jpeg:https://balcarce.gob.ar/wp-content/uploads/2025/03/WhatsApp-Image-2025-03-08-at-11.31.20.jpeg
END:VEVENT
END:VCALENDAR