BEGIN:VCALENDAR
VERSION:2.0
PRODID:-//MUNICIPALIDAD DE BALCARCE - ECPv6.15.14//NONSGML v1.0//EN
CALSCALE:GREGORIAN
METHOD:PUBLISH
X-WR-CALNAME:MUNICIPALIDAD DE BALCARCE
X-ORIGINAL-URL:https://balcarce.gob.ar
X-WR-CALDESC:Eventos para MUNICIPALIDAD DE BALCARCE
REFRESH-INTERVAL;VALUE=DURATION:PT1H
X-Robots-Tag:noindex
X-PUBLISHED-TTL:PT1H
BEGIN:VTIMEZONE
TZID:America/Argentina/Buenos_Aires
BEGIN:STANDARD
TZOFFSETFROM:-0300
TZOFFSETTO:-0300
TZNAME:-03
DTSTART:20240101T000000
END:STANDARD
END:VTIMEZONE
BEGIN:VEVENT
DTSTART;TZID=America/Argentina/Buenos_Aires:20250621T140000
DTEND;TZID=America/Argentina/Buenos_Aires:20250621T170000
DTSTAMP:20260421T085243
CREATED:20250531T214912Z
LAST-MODIFIED:20250531T214912Z
UID:11231-1750514400-1750525200@balcarce.gob.ar
SUMMARY:FERIA DE ARTESANOS Y EMPRENDEDORES
DESCRIPTION:En el Mes de la Bandera\, San Agustín festeja.\nEl sábado 21 de junio te esperamos en la Feria de Artesanas y Emprendedoras de San Agustín. En la Placita de los Niños a partir de las 14.00 hs.\nA la tarde podes visitarnos en la plaza y disfrutar de unos buenos mates.\nUn día de auténtico Turismo Rural! Veni a esperar el Solsticio de Invierno en San Agustín. \nEntrada Gratuita.
URL:https://balcarce.gob.ar/event/feria-de-artesanos-y-emprendedores-2/
LOCATION:San Agustín\, ruta 55\, Balcarce\, Buenos Aires\, 7620
CATEGORIES:activiades,aire libre,comercial,pueblo,san agustín,turismo
ATTACH;FMTTYPE=image/jpeg:https://balcarce.gob.ar/wp-content/uploads/2025/05/WhatsApp-Image-2025-05-31-at-17.19.25.jpeg
END:VEVENT
END:VCALENDAR