BEGIN:VCALENDAR
VERSION:2.0
PRODID:-//MUNICIPALIDAD DE BALCARCE - ECPv6.15.14//NONSGML v1.0//EN
CALSCALE:GREGORIAN
METHOD:PUBLISH
X-ORIGINAL-URL:https://balcarce.gob.ar
X-WR-CALDESC:Eventos para MUNICIPALIDAD DE BALCARCE
REFRESH-INTERVAL;VALUE=DURATION:PT1H
X-Robots-Tag:noindex
X-PUBLISHED-TTL:PT1H
BEGIN:VTIMEZONE
TZID:America/Argentina/Buenos_Aires
BEGIN:STANDARD
TZOFFSETFROM:-0300
TZOFFSETTO:-0300
TZNAME:-03
DTSTART:20240101T000000
END:STANDARD
END:VTIMEZONE
BEGIN:VEVENT
DTSTART;TZID=America/Argentina/Buenos_Aires:20251101T213000
DTEND;TZID=America/Argentina/Buenos_Aires:20251101T233000
DTSTAMP:20260422T040341
CREATED:20251031T133903Z
LAST-MODIFIED:20251031T133903Z
UID:14732-1762032600-1762039800@balcarce.gob.ar
SUMMARY:SABADO 1 NOVIEMBRE
DESCRIPTION:Se viene este nochón\, a beneficio de los bomberos voluntarios de nuestra ciudad 🚒 \, vengan todos a pasar una linda jornada y a colaborar con este equipo de personas que siempre están al pie del cañón ante todo lo que suceda en balcarce y zona 🫶🏻✨️ \nAnticipadas en el Cuartel o al 2266 520752
URL:https://balcarce.gob.ar/event/sabado-1-noviembre/
LOCATION:Cerro “El Triunfo”\, Av. Suipacha y Av. Cereijo\, Balcarce\, Provincia de Buenos Aires\, 7620\, Argentina
CATEGORIES:activiades,pulpería,show,turismo
ATTACH;FMTTYPE=image/jpeg:https://balcarce.gob.ar/wp-content/uploads/2025/10/WhatsApp-Image-2025-10-29-at-18.37.12-1.jpeg
END:VEVENT
BEGIN:VEVENT
DTSTART;TZID=America/Argentina/Buenos_Aires:20251106T203000
DTEND;TZID=America/Argentina/Buenos_Aires:20251106T233000
DTSTAMP:20260422T040341
CREATED:20250828T012203Z
LAST-MODIFIED:20250828T012255Z
UID:12924-1762461000-1762471800@balcarce.gob.ar
SUMMARY:DOS MAS UNO Peña Folklorica
DESCRIPTION:
URL:https://balcarce.gob.ar/event/pena-folklorica-dos-mas-uno/
LOCATION:Pulperia Carlos Maximo Cabrera\, Suipacha e/ 31 y 35\, balcarce\, Buenos Aires\, 7620\, Argentina
CATEGORIES:activiades,folklore,pulpería,show,tradición,turismo
ATTACH;FMTTYPE=image/jpeg:https://balcarce.gob.ar/wp-content/uploads/2025/08/WhatsApp-Image-2025-08-27-at-20.04.50.jpeg
END:VEVENT
BEGIN:VEVENT
DTSTART;TZID=America/Argentina/Buenos_Aires:20251107T203000
DTEND;TZID=America/Argentina/Buenos_Aires:20251107T233000
DTSTAMP:20260422T040341
CREATED:20251031T134108Z
LAST-MODIFIED:20251031T134138Z
UID:14735-1762547400-1762558200@balcarce.gob.ar
SUMMARY:PEÑA BAILE Y CONCURSO DE FOLKLORE
DESCRIPTION:
URL:https://balcarce.gob.ar/event/pena-baile-y-concurso-de-folklore/
LOCATION:Cerro “El Triunfo”\, Av. Suipacha y Av. Cereijo\, Balcarce\, Provincia de Buenos Aires\, 7620\, Argentina
CATEGORIES:activiades,folklore,musica,pulpería,show,tradición,turismo
ATTACH;FMTTYPE=image/jpeg:https://balcarce.gob.ar/wp-content/uploads/2025/10/WhatsApp-Image-2025-10-29-at-18.37.12-2.jpeg
END:VEVENT
END:VCALENDAR