BEGIN:VCALENDAR
VERSION:2.0
PRODID:-//MUNICIPALIDAD DE BALCARCE - ECPv6.15.14//NONSGML v1.0//EN
CALSCALE:GREGORIAN
METHOD:PUBLISH
X-WR-CALNAME:MUNICIPALIDAD DE BALCARCE
X-ORIGINAL-URL:https://balcarce.gob.ar
X-WR-CALDESC:Eventos para MUNICIPALIDAD DE BALCARCE
REFRESH-INTERVAL;VALUE=DURATION:PT1H
X-Robots-Tag:noindex
X-PUBLISHED-TTL:PT1H
BEGIN:VTIMEZONE
TZID:America/Argentina/Buenos_Aires
BEGIN:STANDARD
TZOFFSETFROM:-0300
TZOFFSETTO:-0300
TZNAME:-03
DTSTART:20240101T000000
END:STANDARD
END:VTIMEZONE
BEGIN:VEVENT
DTSTART;TZID=America/Argentina/Buenos_Aires:20251207T220000
DTEND;TZID=America/Argentina/Buenos_Aires:20251207T233000
DTSTAMP:20260422T040430
CREATED:20251120T163732Z
LAST-MODIFIED:20251120T164651Z
UID:15607-1765144800-1765150200@balcarce.gob.ar
SUMMARY:ULTIMO BAILE CAMPERO DEL AÑO
DESCRIPTION:
URL:https://balcarce.gob.ar/event/ultimo-baile-campero-del-ano/
LOCATION:Cerro “El Triunfo”\, Av. Suipacha y Av. Cereijo\, Balcarce\, Provincia de Buenos Aires\, 7620\, Argentina
CATEGORIES:activiades,folklore,musica,pulpería,show,turismo
ATTACH;FMTTYPE=image/jpeg:https://balcarce.gob.ar/wp-content/uploads/2025/11/WhatsApp-Image-2025-11-19-at-19.23.12.jpeg
END:VEVENT
END:VCALENDAR