BEGIN:VCALENDAR
VERSION:2.0
PRODID:-//MUNICIPALIDAD DE BALCARCE - ECPv6.15.14//NONSGML v1.0//EN
CALSCALE:GREGORIAN
METHOD:PUBLISH
X-ORIGINAL-URL:https://balcarce.gob.ar
X-WR-CALDESC:Eventos para MUNICIPALIDAD DE BALCARCE
REFRESH-INTERVAL;VALUE=DURATION:PT1H
X-Robots-Tag:noindex
X-PUBLISHED-TTL:PT1H
BEGIN:VTIMEZONE
TZID:America/Argentina/Buenos_Aires
BEGIN:STANDARD
TZOFFSETFROM:-0300
TZOFFSETTO:-0300
TZNAME:-03
DTSTART:20230101T000000
END:STANDARD
END:VTIMEZONE
BEGIN:VEVENT
DTSTART;TZID=America/Argentina/Buenos_Aires:20240920T213000
DTEND;TZID=America/Argentina/Buenos_Aires:20240920T233000
DTSTAMP:20260422T230643
CREATED:20240903T120745Z
LAST-MODIFIED:20240903T120745Z
UID:6009-1726867800-1726875000@balcarce.gob.ar
SUMMARY:GRAN PEÑA LA ARGENTINA
DESCRIPTION:Gran peña y baile en la pulpería
URL:https://balcarce.gob.ar/event/gran-pena-la-argentina/
LOCATION:Pulperia Carlos Maximo Cabrera\, Suipacha e/ 31 y 35\, balcarce\, Buenos Aires\, 7620\, Argentina
CATEGORIES:folklore,musica,pulpería,turismo
ATTACH;FMTTYPE=image/jpeg:https://balcarce.gob.ar/wp-content/uploads/2024/09/WhatsApp-Image-2024-09-03-at-08.53.27.jpeg
END:VEVENT
END:VCALENDAR