BEGIN:VCALENDAR
VERSION:2.0
PRODID:-//MUNICIPALIDAD DE BALCARCE - ECPv6.15.14//NONSGML v1.0//EN
CALSCALE:GREGORIAN
METHOD:PUBLISH
X-WR-CALNAME:MUNICIPALIDAD DE BALCARCE
X-ORIGINAL-URL:https://balcarce.gob.ar
X-WR-CALDESC:Eventos para MUNICIPALIDAD DE BALCARCE
REFRESH-INTERVAL;VALUE=DURATION:PT1H
X-Robots-Tag:noindex
X-PUBLISHED-TTL:PT1H
BEGIN:VTIMEZONE
TZID:America/Argentina/Buenos_Aires
BEGIN:STANDARD
TZOFFSETFROM:-0300
TZOFFSETTO:-0300
TZNAME:-03
DTSTART:20230101T000000
END:STANDARD
END:VTIMEZONE
BEGIN:VEVENT
DTSTART;TZID=America/Argentina/Buenos_Aires:20241123T080000
DTEND;TZID=America/Argentina/Buenos_Aires:20241123T170000
DTSTAMP:20260422T195019
CREATED:20240726T132814Z
LAST-MODIFIED:20241119T160741Z
UID:4959-1732348800-1732381200@balcarce.gob.ar
SUMMARY:Segunda Peña Pulpera
DESCRIPTION:Reservas al 2266660858
URL:https://balcarce.gob.ar/event/segunda-pena-pulpera/
CATEGORIES:musica,pulpería,show,turismo
ATTACH;FMTTYPE=image/jpeg:https://balcarce.gob.ar/wp-content/uploads/2024/07/WhatsApp-Image-2024-11-19-at-12.23.12.jpeg
END:VEVENT
END:VCALENDAR